BEGIN:VCALENDAR
VERSION:2.0
PRODID:icalendar-ruby
CALSCALE:GREGORIAN
METHOD:PUBLISH
BEGIN:VEVENT
DTSTAMP:20260420T152846Z
UID:5-771245@thedoor.tithelysetup2.com
DTSTART:20260823T170000Z
DTEND:20260823T180000Z
CLASS:PUBLIC
CREATED:20260420T074050
DESCRIPTION:Sunday Worship
LAST-MODIFIED:20260420T074050
LOCATION:
SUMMARY:Sunday Worship
URL;VALUE=URI:https://thedoor.tithelysetup2.com/events/sunday-worship/2026-
 08-23
END:VEVENT
END:VCALENDAR
