BEGIN:VCALENDAR
VERSION:2.0
PRODID:icalendar-ruby
CALSCALE:GREGORIAN
METHOD:PUBLISH
BEGIN:VEVENT
DTSTAMP:20260419T230131Z
UID:5-769718@thedoor.tithelysetup2.com
DTSTART:20260607T170000Z
DTEND:20260607T180000Z
CLASS:PUBLIC
CREATED:20260419T164202
DESCRIPTION:Sunday Worship
LAST-MODIFIED:20260419T164202
LOCATION:
SUMMARY:Sunday Worship
URL;VALUE=URI:https://thedoor.tithelysetup2.com/events/sunday-worship/2026-
 06-07
END:VEVENT
END:VCALENDAR
